BEGIN:VCALENDAR
VERSION:2.0
PRODID:-//Stichting Mitofonds - ECPv6.15.20//NONSGML v1.0//EN
CALSCALE:GREGORIAN
METHOD:PUBLISH
X-ORIGINAL-URL:https://mitofonds.nl
X-WR-CALDESC:Evenementen voor Stichting Mitofonds
REFRESH-INTERVAL;VALUE=DURATION:PT1H
X-Robots-Tag:noindex
X-PUBLISHED-TTL:PT1H
BEGIN:VTIMEZONE
TZID:UTC
BEGIN:STANDARD
TZOFFSETFROM:+0000
TZOFFSETTO:+0000
TZNAME:UTC
DTSTART:20250101T000000
END:STANDARD
END:VTIMEZONE
BEGIN:VEVENT
DTSTART;TZID=UTC:20260228T100000
DTEND;TZID=UTC:20260228T160000
DTSTAMP:20260422T093525
CREATED:20251026T144952Z
LAST-MODIFIED:20251124T153130Z
UID:2295-1772272800-1772294400@mitofonds.nl
SUMMARY:Mito Awareness Walk Amsterdam 2026
DESCRIPTION:28 februari 2026 is het Rare Disease Day – oftewel zeldzame ziekte dag. Wereldwijd vragen we dan aandacht voor “zeldzame ziekten” \nWandel mee door het prachtige\, gezellige Amsterdam en ontdek onze prachtige gezellige hoofdstad met zijn grachten\, pleinen\, historische monumenten\, hofjes en zoveel meer tijdens één van de drie wandelingen (5\, 10 of 15 km). Je ontvangt bij vertrek een mooie boekje met daarin de volledige routebeschrijving en een korte beschrijving met wetenswaardigheden van de mooi/leuke/historische dingen die je tegenkomt. \nDe wandeling van 5 km is prima te doen met rollator\, wandelwagen of rolstoel. \nVoor vertrek zorgen wij voor koffie/thee en appeltaart en bij terugkomst staan de broodjes klaar. \nKosten: \n€25\,- pp (inclusief\, hapjes drankjes vooraf en bij terugkomst\, boekje met de routebeschrijvingen en een Goody Bag) \nKinderen tot 12 jaar gratis \nBereikbaarheid: \nMensen die met een rolstoel komen kunnen gratis parkeren in de parkeergarage waar vertrek/aankomst is. Met OV prima bereikbaar (20 minuten lopen van CS Amsterdam of 5 min. met de metro) en meerdere parkeergarages (Waterlooplein\, Stopera\, Markenhoven) in de buurt \nAlle informatie en inschrijven\nMito Awareness Walk\n 
URL:https://mitofonds.nl/event/mito-awareness-walk-amsterdam-2026/
LOCATION:Amsterdam\, Valkenburgerstraat 182\, Amsterdam\, Noord-Holland\, 1011NB\, Netherlands
ATTACH;FMTTYPE=image/png:https://mitofonds.nl/wp-content/uploads/2025/10/Logo-Walk-vierkant.avif
END:VEVENT
END:VCALENDAR