BEGIN:VCALENDAR
VERSION:2.0
PRODID:-//Stichting Mitofonds - ECPv6.15.20//NONSGML v1.0//EN
CALSCALE:GREGORIAN
METHOD:PUBLISH
X-WR-CALNAME:Stichting Mitofonds
X-ORIGINAL-URL:https://mitofonds.nl
X-WR-CALDESC:Evenementen voor Stichting Mitofonds
REFRESH-INTERVAL;VALUE=DURATION:PT1H
X-Robots-Tag:noindex
X-PUBLISHED-TTL:PT1H
BEGIN:VTIMEZONE
TZID:UTC
BEGIN:STANDARD
TZOFFSETFROM:+0000
TZOFFSETTO:+0000
TZNAME:UTC
DTSTART:20240101T000000
END:STANDARD
END:VTIMEZONE
BEGIN:VEVENT
DTSTART;TZID=UTC:20251004T100000
DTEND;TZID=UTC:20251004T170000
DTSTAMP:20260422T110516
CREATED:20250806T145257Z
LAST-MODIFIED:20250908T084216Z
UID:2110-1759572000-1759597200@mitofonds.nl
SUMMARY:MetaPACT symposium
DESCRIPTION:Op zaterdag 4 oktober vindt het 4e MetaPACT symposium plaats met als thema:\n“Een metabole ziekte? Je staat niet alleen.” \nWat kun je verwachten?\nHet wordt een mix van Gevoel; ervaringen en praten over verschillende thema’s (veerkracht en balans\, brusjes etc)\, Wetenschap (hoe werkt dat eigenlijk met organoïden en hoe helpt onderzoek daarnaar de metabole wereld verder?) en Zakelijk (fondsenwervers opgelet\, hier valt wat van elkaar te leren!) \nHet is een mooi programma met informatie over hoe onderzoek op mini-orgaantjes toewerkt naar behandeling. Voor iedereen die aan de slag wil met fondsenwerving of dit wil verbeteren vertellen twee kanjers uit dit veld hoe je dat kunt doen. En er zijn sprekers die vanuit eigen ervaring vertellen over hoe zij hun weg hebben gevonden na de diagnose of hoe je bijvoorbeeld als ouders er goed kunt zijn voor brusjes. Veel tijd voor ontmoeten en bijpraten dus! \nEn natuurlijk veel tijd voor elkaar ontmoeten en met elkaar in gesprek zijn. \nHet MetaPACT symposium is er voor iedereen met interesse of betrokkenheid in metabole ziekten. Of je nu patiënt bent\, ouder van\, familie of vrienden van\, arts\, onderzoeker\, paramedici of andere zorgprofessional\, iedereen is van harte welkom. \nPraktisch\n\nDeelname is gratis dankzij de samenwerking binnen MetaPACT\nAanmeldformulier volgt binnenkort – Aanmelden via deze link\nLocatie: Ernst Sillem Hoeve\, een prachtige plek in Den Dolder\n\n 
URL:https://mitofonds.nl/event/metapact-symposium/
LOCATION:Ernst Sillem Hoeve\, Soestdijkerweg 10b\, Den Dolder\, 3734MH\, Netherlands
ATTACH;FMTTYPE=image/jpeg:https://mitofonds.nl/wp-content/uploads/2025/08/2025104-Metapact.avif
END:VEVENT
END:VCALENDAR